Package: zitools Version: 1.2.0 Command: rm -rf zitools.buildbin-libdir && mkdir zitools.buildbin-libdir && /Users/biocbuild/BBS/utils/build-universal.sh zitools_1.2.0.tar.gz /Library/Frameworks/R.framework/Resources/bin/R zitools.buildbin-libdir StartedAt: 2025-10-01 21:04:00 -0400 (Wed, 01 Oct 2025) EndedAt: 2025-10-01 21:04:44 -0400 (Wed, 01 Oct 2025) EllapsedTime: 43.4 seconds RetCode: 0 Status: OK PackageFile: zitools_1.2.0.tgz PackageFileSize: 779.5 KiB