Package: zinbwave Version: 1.28.0 Command: /home/biocbuild/R/R/bin/R CMD check --install=check:zinbwave.install-out.txt --library=/home/biocbuild/R/R/site-library --no-vignettes --timings zinbwave_1.28.0.tar.gz StartedAt: 2025-01-31 11:32:43 -0000 (Fri, 31 Jan 2025) EndedAt: 2025-01-31 11:38:47 -0000 (Fri, 31 Jan 2025) EllapsedTime: 363.9 seconds RetCode: 0 Status: OK CheckDir: zinbwave.Rcheck Warnings: 0