Package: zinbwave Version: 1.28.0 Command: /home/biocbuild/R/R/bin/R CMD build --keep-empty-dirs --no-resave-data zinbwave StartedAt: 2025-01-31 03:31:57 -0000 (Fri, 31 Jan 2025) EndedAt: 2025-01-31 03:34:40 -0000 (Fri, 31 Jan 2025) EllapsedTime: 162.3 seconds RetCode: 0 Status: OK PackageFile: zinbwave_1.28.0.tar.gz PackageFileSize: 421.5 KiB