Package: zinbwave Version: 1.28.0 Command: /home/biocbuild/bbs-3.20-bioc/R/bin/R CMD check --install=check:zinbwave.install-out.txt --library=/home/biocbuild/bbs-3.20-bioc/R/site-library --timings zinbwave_1.28.0.tar.gz StartedAt: 2025-01-31 03:28:55 -0500 (Fri, 31 Jan 2025) EndedAt: 2025-01-31 03:34:56 -0500 (Fri, 31 Jan 2025) EllapsedTime: 360.9 seconds RetCode: 0 Status: OK CheckDir: zinbwave.Rcheck Warnings: 0