Package: zinbwave Version: 1.30.0 Command: rm -rf zinbwave.buildbin-libdir && mkdir zinbwave.buildbin-libdir && /Users/biocbuild/BBS/utils/build-universal.sh zinbwave_1.30.0.tar.gz /Library/Frameworks/R.framework/Resources/bin/R zinbwave.buildbin-libdir StartedAt: 2025-04-29 17:39:32 -0400 (Tue, 29 Apr 2025) EndedAt: 2025-04-29 17:40:27 -0400 (Tue, 29 Apr 2025) EllapsedTime: 55.0 seconds RetCode: 0 Status: OK PackageFile: zinbwave_1.30.0.tgz PackageFileSize: 1.02 MiB