Package: zinbwave Version: 1.28.0 Command: /Library/Frameworks/R.framework/Resources/bin/R CMD check --install=check:zinbwave.install-out.txt --library=/Library/Frameworks/R.framework/Resources/library --no-vignettes --timings zinbwave_1.28.0.tar.gz StartedAt: 2025-02-01 13:37:40 -0500 (Sat, 01 Feb 2025) EndedAt: 2025-02-01 13:43:15 -0500 (Sat, 01 Feb 2025) EllapsedTime: 335.0 seconds RetCode: 0 Status: OK CheckDir: zinbwave.Rcheck Warnings: 0