Package: zenith Version: 1.10.0 Command: rm -rf zenith.buildbin-libdir && mkdir zenith.buildbin-libdir && /Users/biocbuild/BBS/utils/build-universal.sh zenith_1.10.0.tar.gz /Library/Frameworks/R.framework/Resources/bin/R zenith.buildbin-libdir StartedAt: 2025-10-04 20:32:16 -0400 (Sat, 04 Oct 2025) EndedAt: 2025-10-04 20:33:02 -0400 (Sat, 04 Oct 2025) EllapsedTime: 46.3 seconds RetCode: 0 Status: OK PackageFile: zenith_1.10.0.tgz PackageFileSize: 735.7 KiB