Package: zFPKM Version: 1.28.0 Command: /home/biocbuild/R/R/bin/R CMD INSTALL zFPKM StartedAt: 2025-01-30 20:16:25 -0000 (Thu, 30 Jan 2025) EndedAt: 2025-01-30 20:16:51 -0000 (Thu, 30 Jan 2025) EllapsedTime: 26.4 seconds RetCode: 0 Status: OK