Package: zFPKM Version: 1.28.0 Command: /home/biocbuild/R/R/bin/R CMD build --keep-empty-dirs --no-resave-data zFPKM StartedAt: 2025-01-31 03:31:46 -0000 (Fri, 31 Jan 2025) EndedAt: 2025-01-31 03:33:01 -0000 (Fri, 31 Jan 2025) EllapsedTime: 74.0 seconds RetCode: 0 Status: OK PackageFile: zFPKM_1.28.0.tar.gz PackageFileSize: 82.89 KiB