Package: yarn Version: 1.34.0 Command: /home/biocbuild/bbs-3.21-bioc/R/bin/R CMD build --keep-empty-dirs --no-resave-data yarn StartedAt: 2025-09-28 20:45:50 -0400 (Sun, 28 Sep 2025) EndedAt: 2025-09-28 20:47:06 -0400 (Sun, 28 Sep 2025) EllapsedTime: 76.0 seconds RetCode: 0 Status: OK PackageFile: yarn_1.34.0.tar.gz PackageFileSize: 2.974 MiB