Package: xenLite Version: 1.0.0 Command: /home/biocbuild/R/R/bin/R CMD build --keep-empty-dirs --no-resave-data xenLite StartedAt: 2025-01-31 03:29:29 -0000 (Fri, 31 Jan 2025) EndedAt: 2025-01-31 03:35:23 -0000 (Fri, 31 Jan 2025) EllapsedTime: 354.0 seconds RetCode: 1 Status: ERROR PackageFile: None PackageFileSize: NA