Package: xcore Version: 1.12.0 Command: /Library/Frameworks/R.framework/Resources/bin/R CMD INSTALL xcore StartedAt: 2025-05-01 15:32:08 -0400 (Thu, 01 May 2025) EndedAt: 2025-05-01 15:33:00 -0400 (Thu, 01 May 2025) EllapsedTime: 51.7 seconds RetCode: 0 Status: OK