Package: xcore Version: 1.12.0 Command: /Library/Frameworks/R.framework/Resources/bin/R CMD check --install=check:xcore.install-out.txt --library=/Library/Frameworks/R.framework/Resources/library --no-vignettes --timings xcore_1.12.0.tar.gz StartedAt: 2025-05-07 14:18:41 -0400 (Wed, 07 May 2025) EndedAt: 2025-05-07 14:28:37 -0400 (Wed, 07 May 2025) EllapsedTime: 595.9 seconds RetCode: 0 Status: OK CheckDir: xcore.Rcheck Warnings: 0