Package: xcms Version: 4.6.4 Command: /home/biocbuild/bbs-3.21-bioc/R/bin/R CMD INSTALL xcms StartedAt: 2025-10-05 15:37:02 -0400 (Sun, 05 Oct 2025) EndedAt: 2025-10-05 15:38:38 -0400 (Sun, 05 Oct 2025) EllapsedTime: 96.5 seconds RetCode: 0 Status: OK