Package: xcms Version: 4.6.4 Command: /home/biocbuild/bbs-3.21-bioc/R/bin/R CMD build --keep-empty-dirs --no-resave-data xcms StartedAt: 2025-10-05 20:33:51 -0400 (Sun, 05 Oct 2025) EndedAt: 2025-10-05 20:38:29 -0400 (Sun, 05 Oct 2025) EllapsedTime: 277.1 seconds RetCode: 0 Status: OK PackageFile: xcms_4.6.4.tar.gz PackageFileSize: 9.543 MiB