Package: xcms Version: 4.6.0 Command: /home/biocbuild/R/R/bin/R CMD INSTALL xcms StartedAt: 2025-04-21 20:58:01 -0000 (Mon, 21 Apr 2025) EndedAt: 2025-04-21 21:00:25 -0000 (Mon, 21 Apr 2025) EllapsedTime: 143.9 seconds RetCode: 0 Status: OK