############################################################################## ############################################################################## ### ### Running command: ### ### /Library/Frameworks/R.framework/Resources/bin/R CMD build --keep-empty-dirs --no-resave-data xcms ### ############################################################################## ############################################################################## * checking for file ‘xcms/DESCRIPTION’ ... OK * preparing ‘xcms’: * checking DESCRIPTION meta-information ... OK * cleaning src * installing the package to build vignettes ----------------------------------- * installing *source* package ‘xcms’ ... ** this is package ‘xcms’ version ‘4.6.0’ ** using staged installation ** libs using C compiler: ‘Apple clang version 15.0.0 (clang-1500.1.0.2.5)’ using C++ compiler: ‘Apple clang version 15.0.0 (clang-1500.1.0.2.5)’ using SDK: ‘MacOSX11.3.sdk’ rm -f massifquant/xcms_massifquant.o massifquant/TrMgr.o massifquant/Tracker.o massifquant/SegProc.o massifquant/DataKeeper.o massifquant/OpOverload.o obiwarp/mat.o obiwarp/vec.o obiwarp/xcms_dynprog.o obiwarp/xcms_lmat.o xcms_obiwarp.o fastMatch.o mzClust_hclust.o mzROI.o util.o xcms.o binners.o clang++ -arch arm64 -std=gnu++17 -I"/Library/Frameworks/R.framework/Resources/include" -DNDEBUG -I/opt/R/arm64/include -fPIC -falign-functions=64 -Wall -g -O2 -c massifquant/xcms_massifquant.cpp -o massifquant/xcms_massifquant.o In file included from massifquant/xcms_massifquant.cpp:17: In file included from massifquant/SegProc.h:4: massifquant/nmath.h:74:10: fatal error: 'libintl.h' file not found #include ^~~~~~~~~~~ 1 error generated. make: *** [massifquant/xcms_massifquant.o] Error 1 ERROR: compilation failed for package ‘xcms’ * removing ‘/private/var/folders/r0/l4fjk6cj5xj0j3brt4bplpl40000gt/T/RtmpQWwXWj/Rinst82986cf19638/xcms’ ----------------------------------- ERROR: package installation failed