Package: xCell2 Version: 1.2.0 Command: /Library/Frameworks/R.framework/Resources/bin/R CMD INSTALL xCell2 StartedAt: 2025-11-03 15:31:26 -0500 (Mon, 03 Nov 2025) EndedAt: 2025-11-03 15:32:20 -0500 (Mon, 03 Nov 2025) EllapsedTime: 53.9 seconds RetCode: 0 Status: OK