Package: xCell2 Version: 1.2.0 Command: /Library/Frameworks/R.framework/Resources/bin/R CMD build --keep-empty-dirs --no-resave-data xCell2 StartedAt: 2025-11-03 19:15:17 -0500 (Mon, 03 Nov 2025) EndedAt: 2025-11-03 19:17:59 -0500 (Mon, 03 Nov 2025) EllapsedTime: 162.3 seconds RetCode: 0 Status: OK PackageFile: xCell2_1.2.0.tar.gz PackageFileSize: 3.087 MiB