Package: xCell2 Version: 1.2.0 Command: /Library/Frameworks/R.framework/Resources/bin/R CMD INSTALL xCell2 StartedAt: 2025-10-31 15:17:31 -0400 (Fri, 31 Oct 2025) EndedAt: 2025-10-31 15:17:47 -0400 (Fri, 31 Oct 2025) EllapsedTime: 16.1 seconds RetCode: 0 Status: OK