Package: xCell2 Version: 1.2.0 Command: /Library/Frameworks/R.framework/Resources/bin/R CMD build --keep-empty-dirs --no-resave-data xCell2 StartedAt: 2025-10-31 18:11:52 -0400 (Fri, 31 Oct 2025) EndedAt: 2025-10-31 18:12:48 -0400 (Fri, 31 Oct 2025) EllapsedTime: 56.6 seconds RetCode: 0 Status: OK PackageFile: xCell2_1.2.0.tar.gz PackageFileSize: 3.088 MiB