Package: xCell2 Version: 1.2.0 Command: /Library/Frameworks/R.framework/Resources/bin/R CMD INSTALL xCell2 StartedAt: 2025-11-17 17:33:26 -0500 (Mon, 17 Nov 2025) EndedAt: 2025-11-17 17:33:42 -0500 (Mon, 17 Nov 2025) EllapsedTime: 16.0 seconds RetCode: 0 Status: OK