Package: wppi Version: 1.16.0 Maintainer: Ana Galhoz MaintainerEmail: ana.galhoz at helmholtz-muenchen.de git_url: https://git.bioconductor.org/packages/wppi git_branch: RELEASE_3_21 git_last_commit: c49fef6 git_last_commit_date: 2025-04-15 12:26:01 -0400 (Tue, 15 Apr 2025)