Package: wpm Version: 1.18.0 Command: /home/biocbuild/R/R/bin/R CMD check --install=check:wpm.install-out.txt --library=/home/biocbuild/R/R/site-library --no-vignettes --timings wpm_1.18.0.tar.gz StartedAt: 2025-04-21 14:56:26 -0000 (Mon, 21 Apr 2025) EndedAt: 2025-04-21 14:57:36 -0000 (Mon, 21 Apr 2025) EllapsedTime: 70.1 seconds RetCode: 0 Status: OK CheckDir: wpm.Rcheck Warnings: 0