Package: wpm Version: 1.18.0 Command: /home/biocbuild/R/R/bin/R CMD build --keep-empty-dirs --no-resave-data wpm StartedAt: 2025-04-22 05:31:19 -0000 (Tue, 22 Apr 2025) EndedAt: 2025-04-22 05:31:48 -0000 (Tue, 22 Apr 2025) EllapsedTime: 29.0 seconds RetCode: 0 Status: OK PackageFile: wpm_1.18.0.tar.gz PackageFileSize: 2.471 MiB