Package: wiggleplotr Version: 1.30.0 Command: /home/biocbuild/R/R/bin/R CMD INSTALL wiggleplotr StartedAt: 2025-01-30 20:24:15 -0000 (Thu, 30 Jan 2025) EndedAt: 2025-01-30 20:24:19 -0000 (Thu, 30 Jan 2025) EllapsedTime: 4.7 seconds RetCode: 0 Status: OK