Package: wiggleplotr Version: 1.30.0 Command: /home/biocbuild/R/R/bin/R CMD build --keep-empty-dirs --no-resave-data wiggleplotr StartedAt: 2025-02-04 03:53:31 -0000 (Tue, 04 Feb 2025) EndedAt: 2025-02-04 03:54:34 -0000 (Tue, 04 Feb 2025) EllapsedTime: 63.1 seconds RetCode: 0 Status: OK PackageFile: wiggleplotr_1.30.0.tar.gz PackageFileSize: 212.6 KiB