Package: wiggleplotr Version: 1.32.0 Command: /home/biocbuild/bbs-3.21-bioc/R/bin/R CMD INSTALL wiggleplotr StartedAt: 2025-09-28 15:41:06 -0400 (Sun, 28 Sep 2025) EndedAt: 2025-09-28 15:41:11 -0400 (Sun, 28 Sep 2025) EllapsedTime: 5.1 seconds RetCode: 0 Status: OK