Package: wiggleplotr Version: 1.32.0 Command: /Library/Frameworks/R.framework/Resources/bin/R CMD build --keep-empty-dirs --no-resave-data wiggleplotr StartedAt: 2025-04-21 17:59:29 -0400 (Mon, 21 Apr 2025) EndedAt: 2025-04-21 17:59:50 -0400 (Mon, 21 Apr 2025) EllapsedTime: 20.3 seconds RetCode: 0 Status: OK PackageFile: wiggleplotr_1.32.0.tar.gz PackageFileSize: 407.9 KiB