Package: widgetTools Version: 1.86.0 Command: rm -rf widgetTools.buildbin-libdir && mkdir widgetTools.buildbin-libdir && E:\biocbuild\bbs-3.21-bioc\R\bin\R.exe CMD INSTALL --build --library=widgetTools.buildbin-libdir widgetTools_1.86.0.tar.gz StartedAt: 2025-08-15 10:34:43 -0400 (Fri, 15 Aug 2025) EndedAt: 2025-08-15 10:36:02 -0400 (Fri, 15 Aug 2025) EllapsedTime: 78.9 seconds RetCode: 0 Status: OK PackageFile: widgetTools_1.86.0.zip PackageFileSize: 348 KiB