Package: widgetTools Version: 1.86.0 Command: /home/biocbuild/bbs-3.21-bioc/R/bin/R CMD INSTALL widgetTools StartedAt: 2025-10-08 15:04:53 -0400 (Wed, 08 Oct 2025) EndedAt: 2025-10-08 15:05:20 -0400 (Wed, 08 Oct 2025) EllapsedTime: 26.7 seconds RetCode: 0 Status: OK