Package: webbioc Version: 1.80.0 Command: /home/biocbuild/bbs-3.21-bioc/R/bin/R CMD build --keep-empty-dirs --no-resave-data webbioc StartedAt: 2025-10-01 20:35:49 -0400 (Wed, 01 Oct 2025) EndedAt: 2025-10-01 20:36:14 -0400 (Wed, 01 Oct 2025) EllapsedTime: 25.0 seconds RetCode: 0 Status: OK PackageFile: webbioc_1.80.0.tar.gz PackageFileSize: 311.2 KiB