Package: weaver Version: 1.71.0 Command: C:\Users\biocbuild\bbs-3.20-bioc\R\bin\R.exe CMD check --no-multiarch --install=check:weaver.install-out.txt --library=C:\Users\biocbuild\bbs-3.20-bioc\R\library --no-vignettes --timings weaver_1.71.0.tar.gz StartedAt: 2024-07-16 05:26:42 -0400 (Tue, 16 Jul 2024) EndedAt: 2024-07-16 05:27:10 -0400 (Tue, 16 Jul 2024) EllapsedTime: 28.4 seconds RetCode: 0 Status: WARNINGS CheckDir: weaver.Rcheck Warnings: 1