Package: weaver Version: 1.74.0 Command: /home/biocbuild/R/R/bin/R CMD INSTALL weaver StartedAt: 2025-05-05 20:17:27 -0000 (Mon, 05 May 2025) EndedAt: 2025-05-05 20:18:28 -0000 (Mon, 05 May 2025) EllapsedTime: 61.1 seconds RetCode: 0 Status: OK