Package: weaver Version: 1.74.0 Command: /home/biocbuild/R/R/bin/R CMD check --install=check:weaver.install-out.txt --library=/home/biocbuild/R/R/site-library --no-vignettes --timings weaver_1.74.0.tar.gz StartedAt: 2025-05-06 14:57:21 -0000 (Tue, 06 May 2025) EndedAt: 2025-05-06 14:57:36 -0000 (Tue, 06 May 2025) EllapsedTime: 15.0 seconds RetCode: 0 Status: WARNINGS CheckDir: weaver.Rcheck Warnings: 1