Package: wavClusteR Version: 2.40.0 Command: /home/biocbuild/R/R/bin/R CMD check --install=check:wavClusteR.install-out.txt --library=/home/biocbuild/R/R/site-library --no-vignettes --timings wavClusteR_2.40.0.tar.gz StartedAt: 2025-02-04 12:07:51 -0000 (Tue, 04 Feb 2025) EndedAt: 2025-02-04 12:13:35 -0000 (Tue, 04 Feb 2025) EllapsedTime: 343.4 seconds RetCode: 0 Status: OK CheckDir: wavClusteR.Rcheck Warnings: 0