Package: wavClusteR Version: 2.42.0 Maintainer: Federico Comoglio MaintainerEmail: federico.comoglio at gmail.com git_url: https://git.bioconductor.org/packages/wavClusteR git_branch: RELEASE_3_21 git_last_commit: fbb85b2 git_last_commit_date: 2025-04-15 10:31:43 -0400 (Tue, 15 Apr 2025)