Package: wateRmelon Version: 2.12.0 Command: /home/biocbuild/R/R/bin/R CMD INSTALL wateRmelon StartedAt: 2025-01-30 21:06:19 -0000 (Thu, 30 Jan 2025) EndedAt: 2025-01-30 21:07:28 -0000 (Thu, 30 Jan 2025) EllapsedTime: 69.3 seconds RetCode: 0 Status: OK