Package: waddR Version: 1.22.0 Command: rm -rf waddR.buildbin-libdir && mkdir waddR.buildbin-libdir && /Users/biocbuild/BBS/utils/build-universal.sh waddR_1.22.0.tar.gz /Library/Frameworks/R.framework/Resources/bin/R waddR.buildbin-libdir StartedAt: 2025-08-02 18:59:23 -0400 (Sat, 02 Aug 2025) EndedAt: 2025-08-02 19:00:17 -0400 (Sat, 02 Aug 2025) EllapsedTime: 53.2 seconds RetCode: 0 Status: OK PackageFile: waddR_1.22.0.tgz PackageFileSize: 203.2 KiB