Package: vulcan Version: 1.30.0 Command: /Library/Frameworks/R.framework/Resources/bin/R CMD build --keep-empty-dirs --no-resave-data vulcan StartedAt: 2025-05-05 23:15:34 -0400 (Mon, 05 May 2025) EndedAt: 2025-05-05 23:18:37 -0400 (Mon, 05 May 2025) EllapsedTime: 182.9 seconds RetCode: 0 Status: OK PackageFile: vulcan_1.30.0.tar.gz PackageFileSize: 389.9 KiB