Package: vulcan Version: 1.30.0 Command: rm -rf vulcan.buildbin-libdir && mkdir vulcan.buildbin-libdir && /Users/biocbuild/BBS/utils/build-universal.sh vulcan_1.30.0.tar.gz /Library/Frameworks/R.framework/Resources/bin/R vulcan.buildbin-libdir StartedAt: 2025-05-10 17:33:57 -0400 (Sat, 10 May 2025) EndedAt: 2025-05-10 17:35:13 -0400 (Sat, 10 May 2025) EllapsedTime: 75.4 seconds RetCode: 0 Status: OK PackageFile: vulcan_1.30.0.tgz PackageFileSize: 463.2 KiB