Package: vulcan Version: 1.30.0 Maintainer: Federico M. Giorgi MaintainerEmail: federico.giorgi at gmail.com git_url: https://git.bioconductor.org/packages/vulcan git_branch: RELEASE_3_21 git_last_commit: e42168d git_last_commit_date: 2025-04-15 11:14:45 -0400 (Tue, 15 Apr 2025)