Package: vtpnet Version: 0.48.0 Command: E:\biocbuild\bbs-3.21-bioc\R\bin\R.exe CMD INSTALL vtpnet StartedAt: 2025-08-14 16:51:57 -0400 (Thu, 14 Aug 2025) EndedAt: 2025-08-14 16:52:56 -0400 (Thu, 14 Aug 2025) EllapsedTime: 59.0 seconds RetCode: 0 Status: OK