Package: vtpnet Version: 0.48.0 Command: /Library/Frameworks/R.framework/Resources/bin/R CMD check --install=check:vtpnet.install-out.txt --library=/Library/Frameworks/R.framework/Resources/library --no-vignettes --timings vtpnet_0.48.0.tar.gz StartedAt: 2025-04-22 00:21:12 -0400 (Tue, 22 Apr 2025) EndedAt: 2025-04-22 00:26:45 -0400 (Tue, 22 Apr 2025) EllapsedTime: 333.5 seconds RetCode: 0 Status: OK CheckDir: vtpnet.Rcheck Warnings: 0