Package: vtpnet Version: 0.48.0 Maintainer: VJ Carey MaintainerEmail: stvjc at channing.harvard.edu git_url: https://git.bioconductor.org/packages/vtpnet git_branch: RELEASE_3_21 git_last_commit: 2c9d36f git_last_commit_date: 2025-04-15 10:24:27 -0400 (Tue, 15 Apr 2025)