Package: vsn Version: 3.74.0 Command: /home/biocbuild/R/R/bin/R CMD check --install=check:vsn.install-out.txt --library=/home/biocbuild/R/R/site-library --no-vignettes --timings vsn_3.74.0.tar.gz StartedAt: 2025-01-31 11:27:25 -0000 (Fri, 31 Jan 2025) EndedAt: 2025-01-31 11:28:28 -0000 (Fri, 31 Jan 2025) EllapsedTime: 63.1 seconds RetCode: 0 Status: OK CheckDir: vsn.Rcheck Warnings: 0