Package: vsn Version: 3.76.0 Command: /Library/Frameworks/R.framework/Resources/bin/R CMD INSTALL vsn StartedAt: 2025-05-22 15:23:33 -0400 (Thu, 22 May 2025) EndedAt: 2025-05-22 15:23:54 -0400 (Thu, 22 May 2025) EllapsedTime: 21.6 seconds RetCode: 0 Status: OK