Package: vsn Version: 3.76.0 Command: /home/biocbuild/R/R/bin/R CMD INSTALL vsn StartedAt: 2025-05-26 20:23:59 -0000 (Mon, 26 May 2025) EndedAt: 2025-05-26 20:24:11 -0000 (Mon, 26 May 2025) EllapsedTime: 11.9 seconds RetCode: 0 Status: OK