Package: vsclust Version: 1.8.0 Command: rm -rf vsclust.buildbin-libdir && mkdir vsclust.buildbin-libdir && F:\biocbuild\bbs-3.20-bioc\R\bin\R.exe CMD INSTALL --build --library=vsclust.buildbin-libdir vsclust_1.8.0.tar.gz StartedAt: 2025-01-31 09:51:37 -0500 (Fri, 31 Jan 2025) EndedAt: 2025-01-31 09:53:14 -0500 (Fri, 31 Jan 2025) EllapsedTime: 97.2 seconds RetCode: 0 Status: OK PackageFile: vsclust_1.8.0.zip PackageFileSize: 2.257 MiB