Package: vsclust Version: 1.10.0 Command: /Library/Frameworks/R.framework/Resources/bin/R CMD check --install=check:vsclust.install-out.txt --library=/Library/Frameworks/R.framework/Resources/library --no-vignettes --timings vsclust_1.10.0.tar.gz StartedAt: 2025-05-06 11:44:03 -0400 (Tue, 06 May 2025) EndedAt: 2025-05-06 11:54:21 -0400 (Tue, 06 May 2025) EllapsedTime: 618.1 seconds RetCode: 0 Status: WARNINGS CheckDir: vsclust.Rcheck Warnings: 1